BEGIN:VCALENDAR
VERSION:2.0
PRODID:-//Northern Plains Sustainable Ag Society - ECPv6.15.20//NONSGML v1.0//EN
CALSCALE:GREGORIAN
METHOD:PUBLISH
X-WR-CALNAME:Northern Plains Sustainable Ag Society
X-ORIGINAL-URL:https://www.npsas.org
X-WR-CALDESC:Events for Northern Plains Sustainable Ag Society
REFRESH-INTERVAL;VALUE=DURATION:PT1H
X-Robots-Tag:noindex
X-PUBLISHED-TTL:PT1H
BEGIN:VTIMEZONE
TZID:America/New_York
BEGIN:DAYLIGHT
TZOFFSETFROM:-0500
TZOFFSETTO:-0400
TZNAME:EDT
DTSTART:20220313T070000
END:DAYLIGHT
BEGIN:STANDARD
TZOFFSETFROM:-0400
TZOFFSETTO:-0500
TZNAME:EST
DTSTART:20221106T060000
END:STANDARD
BEGIN:DAYLIGHT
TZOFFSETFROM:-0500
TZOFFSETTO:-0400
TZNAME:EDT
DTSTART:20230312T070000
END:DAYLIGHT
BEGIN:STANDARD
TZOFFSETFROM:-0400
TZOFFSETTO:-0500
TZNAME:EST
DTSTART:20231105T060000
END:STANDARD
BEGIN:DAYLIGHT
TZOFFSETFROM:-0500
TZOFFSETTO:-0400
TZNAME:EDT
DTSTART:20240310T070000
END:DAYLIGHT
BEGIN:STANDARD
TZOFFSETFROM:-0400
TZOFFSETTO:-0500
TZNAME:EST
DTSTART:20241103T060000
END:STANDARD
BEGIN:DAYLIGHT
TZOFFSETFROM:-0500
TZOFFSETTO:-0400
TZNAME:EDT
DTSTART:20250309T070000
END:DAYLIGHT
BEGIN:STANDARD
TZOFFSETFROM:-0400
TZOFFSETTO:-0500
TZNAME:EST
DTSTART:20251102T060000
END:STANDARD
END:VTIMEZONE
BEGIN:VEVENT
DTSTART;TZID=America/New_York:20241002T120000
DTEND;TZID=America/New_York:20241002T130500
DTSTAMP:20260425T064332
CREATED:20240912T223833Z
LAST-MODIFIED:20240912T223833Z
UID:10000220-1727870400-1727874300@www.npsas.org
SUMMARY:Webinar: Understanding Approved Materials for Use in Organic Crop and Livestock Production
DESCRIPTION:Understanding Approved Materials for Use in Organic Crop and Livestock Production \nThis one-hour online workshop dives deep into selecting materials approved for organic crop and livestock production under the USDA National Organic Program (NOP). \nGain valuable knowledge on: \n\nNOP regulations: Learn how to identify and use approved substances to stay compliant with organic standards.\nOrganic Materials Review Institute (OMRI): Discover how OMRI supports the organic industry through its certification process and product lists.\nInformed decision-making: By the end\, you’ll have the tools and resources to confidently choose materials that boost both your farm’s compliance and productivity.\n\n\n\nRegister Here\n \nThis program is supported through the United States Department of Agriculture (USDA) Transition to Organic Partnership Program (TOPP). TOPP is a program of the USDA Organic Transition Initiative and is administered by the USDA Agricultural Marketing Service (AMS) National Organic Program (NOP).
URL:https://www.npsas.org/event/webinar-understanding-approved-materials-for-use-in-organic-crop-and-livestock-production/
CATEGORIES:Organic Farming Education,Partner Webinars
ATTACH;FMTTYPE=image/jpeg:https://www.npsas.org/wp-content/uploads/Webinar-Understanding-approved-materials-in-organic-crop-and-livestock-production.jpg
END:VEVENT
BEGIN:VEVENT
DTSTART;TZID=America/New_York:20240619T080000
DTEND;TZID=America/New_York:20240619T170000
DTSTAMP:20260425T064332
CREATED:20240619T203447Z
LAST-MODIFIED:20240619T203447Z
UID:10000126-1718784000-1718816400@www.npsas.org
SUMMARY:Transition to Organic Webinar
DESCRIPTION:Join eOrganic and the Organic Farming Research Foundation for a webinar on June 26\, 2024: Developing Organic Crop Budgets for Producers Moving to Organic Production\, presented by Dr. Gregg Ibendahl of Kansas State University. The webinar is free and open to the public and takes place at 11AM Pacific\, 12PM Mountain\, 1PM Central and 2PM Pacific Time. Advance registration is required.
URL:https://www.npsas.org/event/transition-to-organic-webinar/
CATEGORIES:Ag Partner Event,Partner Webinars
LOCATION:https://oregonstate.zoom.us/webinar/register/WN_m7ctt0LlTEahFRjrb8HSIw
END:VEVENT
BEGIN:VEVENT
DTSTART;TZID=America/New_York:20231213T090000
DTEND;TZID=America/New_York:20231213T100000
DTSTAMP:20260425T064332
CREATED:20231211T213944Z
LAST-MODIFIED:20231211T214206Z
UID:10000104-1702458000-1702461600@www.npsas.org
SUMMARY:Cereal Innovators Webinar
DESCRIPTION:Join Northern Crop Institute Wednesday\, December 13th at 9:00am (CST) for our “Cereal Innovators” webinar series! This interactive webinar series focuses on new and unique ways to use cereal grains. Topics throughout the series include new processes\, useful information on milling and baking\, equipment information\, and uses for cereal grains grown in MN\, MT\, ND\, and SD. A new speaker will be featured each month. \nThis month will feature Glenn Roberts\, Founder of Anson Mills\, he will be talking about “Growing with the Grain.” \nSo\, mark your calendars! You won’t want to miss this webinar!
URL:https://www.npsas.org/event/cereal-innovators-webinar/
CATEGORIES:Ag Partner Event,Partner Webinars
ATTACH;FMTTYPE=image/jpeg:https://www.npsas.org/wp-content/uploads/NCI-Cereal-Innovators-Webinar.jpg
END:VEVENT
BEGIN:VEVENT
DTSTART;TZID=America/New_York:20231011T090000
DTEND;TZID=America/New_York:20231011T100000
DTSTAMP:20260425T064332
CREATED:20230914T200000Z
LAST-MODIFIED:20230914T200000Z
UID:10000091-1697014800-1697018400@www.npsas.org
SUMMARY:NCI October Cereal Innovators Webinar
DESCRIPTION:Northern Crop Institute’s Cereal Innovators October webinar will feature Neil Doty\, Ph. D.\, Business Development Manager at the Northern Crops Institute. Join us as Neil discusses Your Kitchen To Consumer and provides an outline to assist you in developing your new food product idea. \nSo\, mark your calendars! You won’t want to miss this webinar! \nRegistration for this event is free of charge\, and open to the public. Please click the button below to register for this event. If you are not able to attend the event live\, you may still register and we will send you a pre-recorded link of the event.
URL:https://www.npsas.org/event/nci-october-cereal-innovators-webinar/
CATEGORIES:Partner Webinars
END:VEVENT
BEGIN:VEVENT
DTSTART;TZID=America/New_York:20230919T130000
DTEND;TZID=America/New_York:20230919T140000
DTSTAMP:20260425T064332
CREATED:20230914T201335Z
LAST-MODIFIED:20230914T201452Z
UID:10000092-1695128400-1695132000@www.npsas.org
SUMMARY:Grain Clawback Webinar with Farmers
DESCRIPTION:Register at the link below and join a conversation with Organic Farmers Association for a conversation with Harriet Behar\, OFA Farmer Services Consultant\, Kevin Fulton\, Nebraska organic grain farmer and grazier\, and others as we discuss strategies farmers can use to inform and protect themselves from contract clawbacks. \nFollowing their presentations\, we will open the conversation around Pipeline Foods’ clawback after their bankruptcy in July 2021 and the aftermath some farmers faced when they received clawback letters demanding all money paid be returned within 21 days.  We hope you can join us!
URL:https://www.npsas.org/event/grain-clawback-webinar-with-farmers/
CATEGORIES:Partner Webinars
END:VEVENT
END:VCALENDAR